BEGIN:VCALENDAR
VERSION:2.0
PRODID:-//Plone.org//NONSGML plone.app.event//EN
X-WR-TIMEZONE:Europe/Rome
BEGIN:VEVENT
SUMMARY:Un palco per... Michele Carnevali in concerto a Russi
DTSTART;TZID=Europe/Rome;VALUE=DATE-TIME:20230818T210000
DTSTAMP;VALUE=DATE-TIME:20260421T102104Z
UID:7446f810ba2143bda58a0eb8fe7a71d7@oldcomunerussi.cavas.redturtle.it
CATEGORIES:eventi
CREATED;VALUE=DATE-TIME:20230810T072551Z
DESCRIPTION:Venerdì 18 agosto\, alle ore 21\, nel giardino della Rocca 
 “T. Melandri” melodie “romantiche e confidenziali”\, proposte dal 
 polistrumentista e virtuoso dell'ocarina russiano
LAST-MODIFIED;VALUE=DATE-TIME:20230831T102152Z
URL:https://oldcomunerussi.cavas.redturtle.it/events/un-palco-per-michele-
 carnevali-in-concerto-a-russi-1
END:VEVENT
BEGIN:VTIMEZONE
TZID:Europe/Rome
X-LIC-LOCATION:Europe/Rome
BEGIN:DAYLIGHT
DTSTART;VALUE=DATE-TIME:20230326T030000
TZNAME:CEST
TZOFFSETFROM:+0100
TZOFFSETTO:+0200
END:DAYLIGHT
END:VTIMEZONE
END:VCALENDAR
