BEGIN:VCALENDAR
VERSION:2.0
PRODID:-//Plone.org//NONSGML plone.app.event//EN
X-WR-TIMEZONE:Europe/Rome
BEGIN:VEVENT
SUMMARY:Spettacolo e tradizione al Museo della Vita Contadina in Romagna d
 i San Pancrazio
DTSTART;TZID=Europe/Rome;VALUE=DATE-TIME:20220722T210000
DTSTAMP;VALUE=DATE-TIME:20260421T142541Z
UID:115a3e044bd5422f9fee1e8c0554893a@oldcomunerussi.cavas.redturtle.it
RRULE:FREQ=WEEKLY;COUNT=2
CATEGORIES:eventi
CREATED;VALUE=DATE-TIME:20220707T102238Z
DESCRIPTION:Annullato\, per cause di forza maggiore\, lo spettacolo di ven
 erdì 22 luglio con Daniele Cristofori e Giancarlo Battilani\, \nconfermat
 o l'appuntamento del 29 luglio con l'intervista ad Andrea Contarini e la c
 ommedia dialettale “E' fidanzamet dla gaia”
LAST-MODIFIED;VALUE=DATE-TIME:20220805T100435Z
URL:https://oldcomunerussi.cavas.redturtle.it/events/spettacolo-e-tradizio
 ne-al-museo-della-vita-contadina-in-romagna-di-san-pancrazio
END:VEVENT
BEGIN:VTIMEZONE
TZID:Europe/Rome
X-LIC-LOCATION:Europe/Rome
BEGIN:DAYLIGHT
DTSTART;VALUE=DATE-TIME:20220327T030000
TZNAME:CEST
TZOFFSETFROM:+0100
TZOFFSETTO:+0200
END:DAYLIGHT
END:VTIMEZONE
END:VCALENDAR
