BEGIN:VCALENDAR
VERSION:2.0
PRODID:-//Plone.org//NONSGML plone.app.event//EN
X-WR-TIMEZONE:Europe/Rome
BEGIN:VEVENT
SUMMARY:Spazio Libero Megamix: mostra personale di Francesca Baldini Orsin
 i
DTSTART;TZID=Europe/Rome;VALUE=DATE-TIME:20230304T160000
DTSTAMP;VALUE=DATE-TIME:20260421T102112Z
UID:8e714f715be443babe1942abd1e70cb5@oldcomunerussi.cavas.redturtle.it
CATEGORIES:eventi
CREATED;VALUE=DATE-TIME:20230220T075233Z
DESCRIPTION:Fino al 26 marzo\, presso la sala Punto InComune di piazza Far
 ini 34
LAST-MODIFIED;VALUE=DATE-TIME:20230324T105951Z
LOCATION:Sala Punto InComune\, piazza Farini n. 34
URL:https://oldcomunerussi.cavas.redturtle.it/events/spazio-libero-megamix
 -mostra-personale-di-francesca-baldini-orsini
END:VEVENT
BEGIN:VTIMEZONE
TZID:Europe/Rome
X-LIC-LOCATION:Europe/Rome
BEGIN:STANDARD
DTSTART;VALUE=DATE-TIME:20221030T020000
TZNAME:CET
TZOFFSETFROM:+0200
TZOFFSETTO:+0100
END:STANDARD
END:VTIMEZONE
END:VCALENDAR
