BEGIN:VCALENDAR
VERSION:2.0
PRODID:-//Plone.org//NONSGML plone.app.event//EN
X-WR-TIMEZONE:Europe/Rome
BEGIN:VEVENT
SUMMARY:Silvia de Santis' Quartet alla rocca T. Melandri: l'Emilia-Romagna
  Festival fa tappa a Russi con "Armonie in crescendo"
DTSTART;TZID=Europe/Rome;VALUE=DATE-TIME:20240822T210000
DTSTAMP;VALUE=DATE-TIME:20260421T102104Z
UID:d193470747994c12b4ec59cebdf2591b@oldcomunerussi.cavas.redturtle.it
CATEGORIES:eventi
CATEGORIES:newsletter
CREATED;VALUE=DATE-TIME:20240813T074139Z
DESCRIPTION:Giovedì 22 agosto\, concerto gratuito alle ore 21.00 (ingress
 o libero fino a esaurimento posti)
LAST-MODIFIED;VALUE=DATE-TIME:20240813T081025Z
LOCATION:Giardino della Rocca "T. Melandri"
URL:https://oldcomunerussi.cavas.redturtle.it/events/silvia-de-santis-quar
 tet-alla-rocca-t-melandri-lemilia-romagna-festival-fa-tappa-a-russi
END:VEVENT
BEGIN:VTIMEZONE
TZID:Europe/Rome
X-LIC-LOCATION:Europe/Rome
BEGIN:DAYLIGHT
DTSTART;VALUE=DATE-TIME:20240331T030000
TZNAME:CEST
TZOFFSETFROM:+0100
TZOFFSETTO:+0200
END:DAYLIGHT
END:VTIMEZONE
END:VCALENDAR
