BEGIN:VCALENDAR
VERSION:2.0
PRODID:-//Plone.org//NONSGML plone.app.event//EN
X-WR-TIMEZONE:Europe/Rome
BEGIN:VEVENT
SUMMARY:Riprende il ciclo di visite guidate a Palazzo San Giacomo
DTSTART;TZID=Europe/Rome;VALUE=DATE-TIME:20230923T173000
DTSTAMP;VALUE=DATE-TIME:20260423T110534Z
UID:2f89be39e07c41d093baf710ab80c081@oldcomunerussi.cavas.redturtle.it
CATEGORIES:eventi
CREATED;VALUE=DATE-TIME:20230823T123218Z
DESCRIPTION:Nuove occasioni per scoprire la maestosa dimora della famiglia
  Rasponi in compagnia di guide turistiche abilitate
LAST-MODIFIED;VALUE=DATE-TIME:20230928T091859Z
LOCATION:Palazzo San Giacomo\, via Carrarone Rasponi
URL:https://oldcomunerussi.cavas.redturtle.it/events/riprende-il-ciclo-di-
 visite-guidate-a-palazzo-san-giacomo
END:VEVENT
BEGIN:VTIMEZONE
TZID:Europe/Rome
X-LIC-LOCATION:Europe/Rome
BEGIN:DAYLIGHT
DTSTART;VALUE=DATE-TIME:20230326T030000
TZNAME:CEST
TZOFFSETFROM:+0100
TZOFFSETTO:+0200
END:DAYLIGHT
END:VTIMEZONE
END:VCALENDAR
