BEGIN:VCALENDAR
VERSION:2.0
PRODID:-//Plone.org//NONSGML plone.app.event//EN
X-WR-TIMEZONE:Europe/Rome
BEGIN:VEVENT
SUMMARY:Fira 2021: The Goodfellas live in piazza Farini
DTSTART;TZID=Europe/Rome;VALUE=DATE-TIME:20210917T210000
DTSTAMP;VALUE=DATE-TIME:20260421T102111Z
UID:7ec405d2cc854353b7fe6aa7f8888908@oldcomunerussi.cavas.redturtle.it
CREATED;VALUE=DATE-TIME:20210917T072903Z
DESCRIPTION:Venerdì 17 settembre alle ore 21 sul palco centrale di piazza
  Farini si esibiranno del vivo i Re del Rockin' Swing
LAST-MODIFIED;VALUE=DATE-TIME:20211001T095345Z
LOCATION:Piazza Farini - Russi (RA)
URL:https://oldcomunerussi.cavas.redturtle.it/events/per-il-venerdi-della-
 fira-i-goodfellas-live-in-piazza-farini
END:VEVENT
BEGIN:VTIMEZONE
TZID:Europe/Rome
X-LIC-LOCATION:Europe/Rome
BEGIN:DAYLIGHT
DTSTART;VALUE=DATE-TIME:20210328T030000
TZNAME:CEST
TZOFFSETFROM:+0100
TZOFFSETTO:+0200
END:DAYLIGHT
END:VTIMEZONE
END:VCALENDAR
