BEGIN:VCALENDAR
VERSION:2.0
PRODID:-//Plone.org//NONSGML plone.app.event//EN
X-WR-TIMEZONE:Europe/Rome
BEGIN:VEVENT
SUMMARY:"Nina la viaggiatrice": presentazione del libro e laboratorio musi
 cale
DTSTART;TZID=Europe/Rome;VALUE=DATE-TIME:20230513T170000
DTSTAMP;VALUE=DATE-TIME:20260421T101712Z
UID:cc9ed0876e994dd3889c81a85a4839f1@oldcomunerussi.cavas.redturtle.it
CATEGORIES:eventi
CREATED;VALUE=DATE-TIME:20230511T130202Z
DESCRIPTION:Sabato 13 maggio\, alle ore 17.00\, presso la Biblioteca comun
 ale di Russi un  evento per bambini da 0 a 8 anni
LAST-MODIFIED;VALUE=DATE-TIME:20230511T130543Z
LOCATION:Biblioteca Comunale di Russi - via Godo Vecchia n. 10
URL:https://oldcomunerussi.cavas.redturtle.it/events/nina-la-viaggiatrice-
 presentazione-del-libro-e-laboratorio-musicale
END:VEVENT
BEGIN:VTIMEZONE
TZID:Europe/Rome
X-LIC-LOCATION:Europe/Rome
BEGIN:DAYLIGHT
DTSTART;VALUE=DATE-TIME:20230326T030000
TZNAME:CEST
TZOFFSETFROM:+0100
TZOFFSETTO:+0200
END:DAYLIGHT
END:VTIMEZONE
END:VCALENDAR
