BEGIN:VCALENDAR
VERSION:2.0
PRODID:-//Plone.org//NONSGML plone.app.event//EN
X-WR-TIMEZONE:Europe/Rome
BEGIN:VEVENT
SUMMARY:Le faville d'estate: letture animate con le Giovani Faville
DTSTART;TZID=Europe/Rome;VALUE=DATE-TIME:20230614T204500
DTSTAMP;VALUE=DATE-TIME:20260421T103358Z
UID:80e0d398b7224f7b8bc588882bd01385@oldcomunerussi.cavas.redturtle.it
CATEGORIES:eventi
CREATED;VALUE=DATE-TIME:20230609T113805Z
DESCRIPTION:Mercoledì 14 giugno\, alle ore 20.45\, presso la Biblioteca c
 omunale di Russi\, un appuntamento con il gruppo dei lettori volontari del
 le Giovani Faville
LAST-MODIFIED;VALUE=DATE-TIME:20230609T122511Z
LOCATION:Biblioteca Comunale di Russi\, via Godo Vecchia 10
URL:https://oldcomunerussi.cavas.redturtle.it/events/le-faville-destate-le
 tture-animate-con-le-giovani-faville
END:VEVENT
BEGIN:VTIMEZONE
TZID:Europe/Rome
X-LIC-LOCATION:Europe/Rome
BEGIN:DAYLIGHT
DTSTART;VALUE=DATE-TIME:20230326T030000
TZNAME:CEST
TZOFFSETFROM:+0100
TZOFFSETTO:+0200
END:DAYLIGHT
END:VTIMEZONE
END:VCALENDAR
