BEGIN:VCALENDAR
VERSION:2.0
PRODID:-//Plone.org//NONSGML plone.app.event//EN
X-WR-TIMEZONE:Europe/Rome
BEGIN:VEVENT
SUMMARY:La Fira dei piccoli!
DTSTART;TZID=Europe/Rome;VALUE=DATE-TIME:20230918T213000
DTSTAMP;VALUE=DATE-TIME:20260423T104947Z
UID:e6e71c2c50fd40c988f7234d8ef24bb7@oldcomunerussi.cavas.redturtle.it
CATEGORIES:eventi
CREATED;VALUE=DATE-TIME:20230907T084053Z
DESCRIPTION:Domenica 17 e lunedì 18 settembre c'è ARTINFIRA: THE BUSKERS
  GARDEN al giardino della rocca T. Melandri
LAST-MODIFIED;VALUE=DATE-TIME:20230928T091921Z
URL:https://oldcomunerussi.cavas.redturtle.it/events/la-fira-dei-piccoli
END:VEVENT
BEGIN:VTIMEZONE
TZID:Europe/Rome
X-LIC-LOCATION:Europe/Rome
BEGIN:DAYLIGHT
DTSTART;VALUE=DATE-TIME:20230326T030000
TZNAME:CEST
TZOFFSETFROM:+0100
TZOFFSETTO:+0200
END:DAYLIGHT
END:VTIMEZONE
END:VCALENDAR
