BEGIN:VCALENDAR
VERSION:2.0
PRODID:-//Plone.org//NONSGML plone.app.event//EN
X-WR-TIMEZONE:Europe/Rome
BEGIN:VEVENT
SUMMARY:La nona edizione di RUSSI ROCK BEER è alle porte
DTSTART;TZID=Europe/Rome;VALUE=DATE-TIME:20240713T235500
DTSTAMP;VALUE=DATE-TIME:20260421T104231Z
UID:1d5820904eb24e9ab7d0a23bc3860675@oldcomunerussi.cavas.redturtle.it
CATEGORIES:eventi
CREATED;VALUE=DATE-TIME:20230530T070427Z
DESCRIPTION:Musica\, gastronomia e diversi tipi di birra saranno il mix pe
 rfetto all’interno di questo format ormai collaudato nelle serate dal 10
  al 13 luglio 2024\, presso il giardino della Rocca T. Melandri.
LAST-MODIFIED;VALUE=DATE-TIME:20240711T065538Z
LOCATION:Giardino della Rocca "T. Melandri" di Russi
URL:https://oldcomunerussi.cavas.redturtle.it/events/l2019ottava-edizione-
 di-russi-rock-beer-e-alle-porte
END:VEVENT
BEGIN:VTIMEZONE
TZID:Europe/Rome
X-LIC-LOCATION:Europe/Rome
BEGIN:DAYLIGHT
DTSTART;VALUE=DATE-TIME:20240331T030000
TZNAME:CEST
TZOFFSETFROM:+0100
TZOFFSETTO:+0200
END:DAYLIGHT
END:VTIMEZONE
END:VCALENDAR
