BEGIN:VCALENDAR
VERSION:2.0
PRODID:-//Plone.org//NONSGML plone.app.event//EN
X-WR-TIMEZONE:Europe/Rome
BEGIN:VEVENT
SUMMARY:Klassens Tid... l'ora di empatia!
DTSTART;TZID=Europe/Rome;VALUE=DATE-TIME:20220608T000000
DTEND;TZID=Europe/Rome;VALUE=DATE-TIME:20220608T020000
DTSTAMP;VALUE=DATE-TIME:20260423T104859Z
UID:71fbd0cb55234372bb72a83cad0c1394@oldcomunerussi.cavas.redturtle.it
CATEGORIES:eventi
CREATED;VALUE=DATE-TIME:20220419T080048Z
DESCRIPTION:Quattro appuntamenti in Biblioteca per bambini e bambine dai 6
  agli 8 anni. Ultimo incontro con i genitori martedì 7 giugno dalle 20 al
 le 22
LAST-MODIFIED;VALUE=DATE-TIME:20220607T143202Z
URL:https://oldcomunerussi.cavas.redturtle.it/events/klassens-tid-lora-di-
 empatia
END:VEVENT
BEGIN:VTIMEZONE
TZID:Europe/Rome
X-LIC-LOCATION:Europe/Rome
BEGIN:DAYLIGHT
DTSTART;VALUE=DATE-TIME:20220327T030000
TZNAME:CEST
TZOFFSETFROM:+0100
TZOFFSETTO:+0200
END:DAYLIGHT
END:VTIMEZONE
END:VCALENDAR
