BEGIN:VCALENDAR
VERSION:2.0
PRODID:-//Plone.org//NONSGML plone.app.event//EN
X-WR-TIMEZONE:Europe/Rome
BEGIN:VEVENT
SUMMARY:"Il Circolo delle Arti": il nuovo progetto a cura della compagnia 
  Le Belle Bandiere
DTSTART;TZID=Europe/Rome;VALUE=DATE-TIME:20231219T204500
DTSTAMP;VALUE=DATE-TIME:20260421T101812Z
UID:4793bd66d9db4636b3c74f974c32d77b@oldcomunerussi.cavas.redturtle.it
CATEGORIES:eventi
CREATED;VALUE=DATE-TIME:20231009T112548Z
DESCRIPTION:Serate di teatro\, musica\, cinema\, storie a sorpresa\, racco
 nti e interviste. Terzo ed ultimo spettacolo dal titolo "Cose dell'altro m
 ondo" martedì 19 dicembre ore 20.45\, presso il Teatro comunale di Russi
LAST-MODIFIED;VALUE=DATE-TIME:20231222T093327Z
LOCATION:Teatro Comunale di Russi\, Via Cavour 10
URL:https://oldcomunerussi.cavas.redturtle.it/events/il-circolo-delle-arti
 -prima-serata-terra-mater-matrigna
END:VEVENT
BEGIN:VTIMEZONE
TZID:Europe/Rome
X-LIC-LOCATION:Europe/Rome
BEGIN:STANDARD
DTSTART;VALUE=DATE-TIME:20231029T020000
TZNAME:CET
TZOFFSETFROM:+0200
TZOFFSETTO:+0100
END:STANDARD
END:VTIMEZONE
END:VCALENDAR
