BEGIN:VCALENDAR
VERSION:2.0
PRODID:-//Plone.org//NONSGML plone.app.event//EN
X-WR-TIMEZONE:Europe/Rome
BEGIN:VEVENT
SUMMARY:Concerto d'organo a quattro mani alla Chiesa dei Servi
DTSTART;TZID=Europe/Rome;VALUE=DATE-TIME:20220912T204500
DTSTAMP;VALUE=DATE-TIME:20260423T105306Z
UID:85274ab07a2540bab9139ad7191201d7@oldcomunerussi.cavas.redturtle.it
CATEGORIES:eventi
CREATED;VALUE=DATE-TIME:20220906T131950Z
DESCRIPTION:Lunedì 12 settembre\, alle 20.45\, presso la Chiesa dei Servi
 \, concerto d'organo a quattro mani con Paolo Devito e Mirella Dirminti
LAST-MODIFIED;VALUE=DATE-TIME:20220906T140942Z
LOCATION:Chiesa dei Servi - via Trieste (Russi)
URL:https://oldcomunerussi.cavas.redturtle.it/events/concerto-dorgano-a-qu
 attro-mani-alla-chiesa-dei-servi
END:VEVENT
BEGIN:VTIMEZONE
TZID:Europe/Rome
X-LIC-LOCATION:Europe/Rome
BEGIN:DAYLIGHT
DTSTART;VALUE=DATE-TIME:20220327T030000
TZNAME:CEST
TZOFFSETFROM:+0100
TZOFFSETTO:+0200
END:DAYLIGHT
END:VTIMEZONE
END:VCALENDAR
