BEGIN:VCALENDAR
VERSION:2.0
PRODID:-//Plone.org//NONSGML plone.app.event//EN
X-WR-TIMEZONE:Europe/Rome
BEGIN:VEVENT
SUMMARY:Celebrazione del 77° anniversario della Liberazione
DTSTART;TZID=Europe/Rome;VALUE=DATE-TIME:20220426T204500
DTSTAMP;VALUE=DATE-TIME:20260421T102136Z
UID:89dce3119e5a4c709575a986e95fe995@oldcomunerussi.cavas.redturtle.it
CATEGORIES:eventi
CREATED;VALUE=DATE-TIME:20220413T101045Z
DESCRIPTION:Martedì 19 aprile spettacolo di letture in musica in Bibliote
 ca\, giovedì 21 visita ai Cippi dei Martiri\, lunedì 25 celebrazione ist
 ituzionale in piazza Farini e martedì 26 presentazione del libro “O tut
 ti o nessuno”
LAST-MODIFIED;VALUE=DATE-TIME:20220426T081801Z
URL:https://oldcomunerussi.cavas.redturtle.it/events/celebrazione-del-77de
 g-anniversario-della-liberazione
END:VEVENT
BEGIN:VTIMEZONE
TZID:Europe/Rome
X-LIC-LOCATION:Europe/Rome
BEGIN:DAYLIGHT
DTSTART;VALUE=DATE-TIME:20220327T030000
TZNAME:CEST
TZOFFSETFROM:+0100
TZOFFSETTO:+0200
END:DAYLIGHT
END:VTIMEZONE
END:VCALENDAR
