BEGIN:VCALENDAR
VERSION:2.0
PRODID:-//Plone.org//NONSGML plone.app.event//EN
X-WR-TIMEZONE:Europe/Rome
BEGIN:VEVENT
SUMMARY:Bibliogame\, in Biblioteca il gioco-quiz per bambini e ragazzi dai
  7 ai 12 anni
DTSTART;TZID=Europe/Rome;VALUE=DATE-TIME:20230608T203000
DTSTAMP;VALUE=DATE-TIME:20260423T105311Z
UID:f6d1139ec36845e4b95e3d918b56fbf5@oldcomunerussi.cavas.redturtle.it
CATEGORIES:eventi
CREATED;VALUE=DATE-TIME:20230601T102927Z
DESCRIPTION:Giovedì 8 giugno\, a partire dalle 20.45\, presso la Bibliote
 ca Comunale di Russi\, in via Godo Vecchia 10 (iscrizioni obbligatorie)
LAST-MODIFIED;VALUE=DATE-TIME:20230601T121326Z
URL:https://oldcomunerussi.cavas.redturtle.it/events/bibliogame-in-bibliot
 eca-si-sfidano-bambini-dai-7-ai-12-anni
END:VEVENT
BEGIN:VTIMEZONE
TZID:Europe/Rome
X-LIC-LOCATION:Europe/Rome
BEGIN:DAYLIGHT
DTSTART;VALUE=DATE-TIME:20230326T030000
TZNAME:CEST
TZOFFSETFROM:+0100
TZOFFSETTO:+0200
END:DAYLIGHT
END:VTIMEZONE
END:VCALENDAR
