BEGIN:VCALENDAR
VERSION:2.0
PRODID:-//Plone.org//NONSGML plone.app.event//EN
X-WR-TIMEZONE:Europe/Rome
BEGIN:VEVENT
SUMMARY:Biblioclub alla biblioteca comunale di Russi
DTSTART;VALUE=DATE:20240310
DTEND;VALUE=DATE:20240311
DTSTAMP;VALUE=DATE-TIME:20260423T141923Z
UID:69c10d65eb294ad98e1d010c5d656d59@oldcomunerussi.cavas.redturtle.it
RRULE:FREQ=WEEKLY;COUNT=12
EXDATE;TZID=Europe/Rome:20240317T000000,20240331T000000,20240407T000000,20
 240421T000000,20240505T000000,20240519T000000
CATEGORIES:eventi
CATEGORIES:newsletter
CREATED;VALUE=DATE-TIME:20240304T122159Z
DESCRIPTION:Ultimo appuntamento domenica 26 maggio\, dalle 9 alle 12. Il p
 rogramma dettagliato nella notizia
LAST-MODIFIED;VALUE=DATE-TIME:20240527T063931Z
LOCATION:Biblioteca Comunale di Russi - Via Godo Vecchia n. 10
URL:https://oldcomunerussi.cavas.redturtle.it/events/biblioclub-alla-bibli
 oteca-comunale-di-russi-sei-domeniche-tra-parole-e-gioco
END:VEVENT
END:VCALENDAR
