BEGIN:VCALENDAR
VERSION:2.0
PRODID:-//Plone.org//NONSGML plone.app.event//EN
X-WR-TIMEZONE:Europe/Rome
BEGIN:VEVENT
SUMMARY:Biblioclub alla biblioteca comunale di Russi
DTSTART;VALUE=DATE:20240526
DTEND;VALUE=DATE:20240527
DTSTAMP;VALUE=DATE-TIME:20260421T121906Z
UID:69c10d65eb294ad98e1d010c5d656d59@oldcomunerussi.cavas.redturtle.it
CATEGORIES:eventi
CATEGORIES:newsletter
CREATED;VALUE=DATE-TIME:20240304T122159Z
DESCRIPTION:Ultimo appuntamento domenica 26 maggio\, dalle 9 alle 12. Il p
 rogramma dettagliato nella notizia
LAST-MODIFIED;VALUE=DATE-TIME:20240527T063931Z
LOCATION:Biblioteca Comunale di Russi - Via Godo Vecchia n. 10
URL:https://oldcomunerussi.cavas.redturtle.it/events/biblioclub-alla-bibli
 oteca-comunale-di-russi-sei-domeniche-tra-parole-e-gioco/2024-05-26
END:VEVENT
END:VCALENDAR
