BEGIN:VCALENDAR
VERSION:2.0
PRODID:-//Plone.org//NONSGML plone.app.event//EN
X-WR-TIMEZONE:Europe/Rome
BEGIN:VEVENT
SUMMARY:Alla ricerca dell'antico Castrum\, visite guidate alla scoperta de
 lla storia di Russi
DTSTART;TZID=Europe/Rome;VALUE=DATE-TIME:20230917T160000
DTSTAMP;VALUE=DATE-TIME:20260421T102020Z
UID:6e20817a59304a4c8422141357530057@oldcomunerussi.cavas.redturtle.it
CREATED;VALUE=DATE-TIME:20230906T104205Z
DESCRIPTION:Sabato 16 e domenica 17 settembre\, nell'ambito della Fira di 
 Sett Dulur\, un viaggio alla scoperta di torresini nascosti\, grandi porte
 \, orologi e... storie di banditi. Prenotazione obbligatoria!
LAST-MODIFIED;VALUE=DATE-TIME:20230906T104257Z
URL:https://oldcomunerussi.cavas.redturtle.it/events/alla-ricerca-dellanti
 co-castrum-visite-guidate-alla-scoperta-della-storia-di-russi
END:VEVENT
BEGIN:VTIMEZONE
TZID:Europe/Rome
X-LIC-LOCATION:Europe/Rome
BEGIN:DAYLIGHT
DTSTART;VALUE=DATE-TIME:20230326T030000
TZNAME:CEST
TZOFFSETFROM:+0100
TZOFFSETTO:+0200
END:DAYLIGHT
END:VTIMEZONE
END:VCALENDAR
