BEGIN:VCALENDAR
VERSION:2.0
PRODID:-//Plone.org//NONSGML plone.app.event//EN
X-WR-TIMEZONE:Europe/Rome
BEGIN:VEVENT
SUMMARY:A Russi la 35^ edizione della Festa d'autunno
DTSTART;TZID=Europe/Rome;VALUE=DATE-TIME:20221113T235500
DTSTAMP;VALUE=DATE-TIME:20260421T102234Z
UID:0e19b4dadb9f4a58b83e1e620a663ffd@oldcomunerussi.cavas.redturtle.it
CATEGORIES:eventi
CREATED;VALUE=DATE-TIME:20221026T084453Z
DESCRIPTION:Sabato 12 e domenica 13 novembre 2022 torna la manifestazione 
 organizzata in collaborazione con la Comunità "Sasso" di Marradi con inco
 ntro sul tema della tossicodipendenza\, iniziative per il sociale e banchi
  espositivi delle Associazioni
LAST-MODIFIED;VALUE=DATE-TIME:20221125T115016Z
LOCATION:Russi (RA)
URL:https://oldcomunerussi.cavas.redturtle.it/events/a-russi-la-35-edizion
 e-della-festa-dautunno
END:VEVENT
BEGIN:VTIMEZONE
TZID:Europe/Rome
X-LIC-LOCATION:Europe/Rome
BEGIN:STANDARD
DTSTART;VALUE=DATE-TIME:20221030T020000
TZNAME:CET
TZOFFSETFROM:+0200
TZOFFSETTO:+0100
END:STANDARD
END:VTIMEZONE
END:VCALENDAR
