BEGIN:VCALENDAR
VERSION:2.0
PRODID:-//Plone.org//NONSGML plone.app.event//EN
X-WR-TIMEZONE:Europe/Rome
BEGIN:VEVENT
SUMMARY:“Sere d’estate” al Centro Porta Nova
DTSTART;VALUE=DATE:20220715
DTEND;VALUE=DATE:20220716
DTSTAMP;VALUE=DATE-TIME:20260423T105305Z
UID:8b285fbbb8284aa79673c446f8ef54c0@oldcomunerussi.cavas.redturtle.it
CATEGORIES:eventi
CREATED;VALUE=DATE-TIME:20220614T142527Z
DESCRIPTION:Musica\, spettacoli\, lotteria\, burattini e altro ancora. Tan
 ti appuntamenti a Russi nei mesi estivi offerti nella sede dell’Associaz
 ione\, di via A. Moro
LAST-MODIFIED;VALUE=DATE-TIME:20220819T095214Z
URL:https://oldcomunerussi.cavas.redturtle.it/events/201csere-d2019estate2
 01d-al-centro-porta-nova/2022-07-15
END:VEVENT
END:VCALENDAR
