BEGIN:VCALENDAR
VERSION:2.0
PRODID:-//Plone.org//NONSGML plone.app.event//EN
X-WR-TIMEZONE:Europe/Rome
BEGIN:VEVENT
SUMMARY:“EMOZIONI DAL MUSICAL”: il Chorus Fantasy in concerto
DTSTART;TZID=Europe/Rome;VALUE=DATE-TIME:20240726T211500
DTSTAMP;VALUE=DATE-TIME:20260421T102104Z
UID:70f3222956a14e0f90eedf92c082d841@oldcomunerussi.cavas.redturtle.it
CATEGORIES:eventi
CREATED;VALUE=DATE-TIME:20240717T105252Z
DESCRIPTION:Venerdì 26 luglio ore 21.15\, presso il Giardino della Rocca 
 “T. Melandri” a Russi
LAST-MODIFIED;VALUE=DATE-TIME:20240717T105334Z
LOCATION:Giardino della Rocca "T. Melandri"
URL:https://oldcomunerussi.cavas.redturtle.it/events/201cemozioni-dal-musi
 cal201d-il-chorus-fantasy-in-concerto
END:VEVENT
BEGIN:VTIMEZONE
TZID:Europe/Rome
X-LIC-LOCATION:Europe/Rome
BEGIN:DAYLIGHT
DTSTART;VALUE=DATE-TIME:20240331T030000
TZNAME:CEST
TZOFFSETFROM:+0100
TZOFFSETTO:+0200
END:DAYLIGHT
END:VTIMEZONE
END:VCALENDAR
